BEGIN:VCALENDAR
VERSION:2.0
PRODID:-//wp-events-plugin.com//7.2.3.1//EN
BEGIN:VEVENT
UID:30@oldtownbeaverton.com
DTSTART:20250823T140000Z
DTEND:20250823T210000Z
DTSTAMP:20250724T210456Z
URL:https://www.oldtownbeaverton.com/events/syndicates-6th-anniversary-par
 ty/
SUMMARY:Syndicate's 6th Anniversary Party
DESCRIPTION:Back when national media was discouraging international travel\
 , Syndicate created an island escape. Can you believe it’s been 5 years 
 since that day? and yet some things haven’t changed. Syndicate is still 
 creating an island escape\, this time in our 6th Anniversary Party. We are
  bringing the beach to Beaverton.\n\nIf you missed out on Block Party\, he
 re’s another chance at our 6th Anniversary Party. Enjoy a tasting experi
 ence similar to Block Party without the rain and wind. Help us bring the s
 unshine and celebrate summer by wearing your best Hawaiian shirt and sippi
 ng on some crazy-creative summer drinks. We will have contests and giveawa
 ys you don’t want to miss.\nFood\nWith your admission you will receive a
  commemorative Govino tasting glass and 10 coupons to use on wine\, beer\,
  cider\, or non-alcoholic beverages. Food sold separately and brought to y
 ou directly from our amazing Syndicate Kitchen Team.  We want to bring yo
 u an delightful experience that highlights all the senses.\nAfter Party\nB
 ut don’t stop there. Stay for the After Party and enjoy the soulful tune
 s of Josh Makosky from 6-9 PM.  Josh has been with us since before we ope
 ned Syndicate.  He’s always been by our side these entire 6 years and l
 ooks forward to rocking out with all of you once again.\n\nRetail sales fr
 om Syndicate and some of our other small businesses will line our inside a
 nd outdoor areas. Come ready to shop small and support big.\nPurchase tick
 ets today to match the experience you are looking for.  Club does receive
  a discount. We can’t wait to celebrate our 6-year milestone with you an
 d some of our favorite wine labels. It’s an anniversary party of all ann
 iversary parties.  Let’s celebrate with good wine and amazing food.\nTi
 cket Types:\n\n 	General Admission: gets you into the main event where you
  will receive 10 tasting coupons to use at any vendor.  You will also be 
 able to shop all of the merchants. (Food is additional)\n 	Club Admission:
  for Club Members Only\n 	After Party:  If you are staying around after 
 6 PM\, we will have LIVE music continuing into the night.  This nominal $
 10 fee is a cover charge to allow us to bring you some of the best musicia
 ns around.\n
ATTACH;FMTTYPE=image/jpeg:https://www.oldtownbeaverton.com/wp-content/uplo
 ads/2025/07/saturday-august-23-4-x-2-in.jpg
CATEGORIES:Theme Party
LOCATION:https://www.syndicatewines.com/6years
END:VEVENT
END:VCALENDAR